BEGIN:VCALENDAR
VERSION:2.0
PRODID:-//https://www.rvfr-aus.org.au///NONSGML kigkonsult.se iCalcreator 2.10.15//
METHOD:PUBLISH
BEGIN:VEVENT
UID:20260422T170714UTC-3185csxLkU@https://www.rvfr-aus.org.au/
DTSTAMP:20260422T170714Z
DESCRIPTION:Drovers: Brian &amp\; Jan Plain\nFor more info contact Eastern 
 Zone Chairperson via email ezchair@rvfr-aus.org.au
DTSTART:20270427T040000Z
DTEND:20270506T000000Z
LOCATION:Roving Muster ()
SUMMARY:Eastern Zone - Rolling muster Gundagai to Beechworth (Note change o
 f date)
END:VEVENT
END:VCALENDAR
